BEGIN:VCALENDAR
VERSION:2.0
PRODID:-//hacksw/handcal//NONSGML v1.0//EN
BEGIN:VEVENT
SUMMARY:arbitrage -13 ans equipe 1
UID:c6f47e96-3a74-425d-b1a4-2a6f48fe77ae
DTSTART:20260425T123000Z
DTEND:20260425T140000Z
LOCATION:Localisation   
CATEGORIES:Sportif
STATUS:
DESCRIPTION:<p>Arbitrage -13 ans garcon </p><p>debut Du match
 15h </p><p><br></p><p>rendez vous sur place 14h30</p>
URL;VALUE=URI:https://www.verneuilstgencehandballclub.com/evenements/2026/04/25/arbitrage-13-ans-equipe-1-2444685
END:VEVENT
END:VCALENDAR
